BEGIN:VCALENDAR
VERSION:2.0
PRODID:Semana de Praia
X-WR-CALNAME:Semana de Praia
X-WR-TIMEZONE:Europe/Lisbon
X-PUBLISHED-TTL:P1W
BEGIN:VTIMEZONE
TZID:Europe/Lisbon
X-LIC-LOCATION:Europe/Lisbon
END:VTIMEZONE
BEGIN:VEVENT
UID:69e570d4c341f
DTSTART;VALUE=DATE:20230703
SEQUENCE:0
TRANSP:OPAQUE
DTEND;VALUE=DATE:20230704
SUMMARY:Semana de Praia
CLASS:PUBLIC
DESCRIPTION:Semana de Praia
X-MICROSOFT-CDO-ALLDAYEVENT:TRUE
DTSTAMP:20260420T001828Z
END:VEVENT
END:VCALENDAR