BEGIN:VCALENDAR
VERSION:2.0
PRODID:Assembleia de Freguesia
X-WR-CALNAME:Assembleia de Freguesia
X-WR-TIMEZONE:Europe/Lisbon
X-PUBLISHED-TTL:P1W
BEGIN:VTIMEZONE
TZID:Europe/Lisbon
X-LIC-LOCATION:Europe/Lisbon
END:VTIMEZONE
BEGIN:VEVENT
UID:69e56d2a6dab0
DTSTART;VALUE=DATE:20221219
SEQUENCE:0
TRANSP:OPAQUE
DTEND;VALUE=DATE:20221220
SUMMARY:Assembleia de Freguesia
CLASS:PUBLIC
X-MICROSOFT-CDO-ALLDAYEVENT:TRUE
DTSTAMP:20260420T000250Z
END:VEVENT
END:VCALENDAR